BEGIN:VCALENDAR
VERSION:2.0
PRODID:-//Sweet Home Spirits - ECPv6.15.12.2//NONSGML v1.0//EN
CALSCALE:GREGORIAN
METHOD:PUBLISH
X-WR-CALNAME:Sweet Home Spirits
X-ORIGINAL-URL:https://sweethomespirits.com
X-WR-CALDESC:Events for Sweet Home Spirits
REFRESH-INTERVAL;VALUE=DURATION:PT1H
X-Robots-Tag:noindex
X-PUBLISHED-TTL:PT1H
BEGIN:VTIMEZONE
TZID:America/Chicago
BEGIN:DAYLIGHT
TZOFFSETFROM:-0600
TZOFFSETTO:-0500
TZNAME:CDT
DTSTART:20210314T080000
END:DAYLIGHT
BEGIN:STANDARD
TZOFFSETFROM:-0500
TZOFFSETTO:-0600
TZNAME:CST
DTSTART:20211107T070000
END:STANDARD
BEGIN:DAYLIGHT
TZOFFSETFROM:-0600
TZOFFSETTO:-0500
TZNAME:CDT
DTSTART:20220313T080000
END:DAYLIGHT
BEGIN:STANDARD
TZOFFSETFROM:-0500
TZOFFSETTO:-0600
TZNAME:CST
DTSTART:20221106T070000
END:STANDARD
BEGIN:DAYLIGHT
TZOFFSETFROM:-0600
TZOFFSETTO:-0500
TZNAME:CDT
DTSTART:20230312T080000
END:DAYLIGHT
BEGIN:STANDARD
TZOFFSETFROM:-0500
TZOFFSETTO:-0600
TZNAME:CST
DTSTART:20231105T070000
END:STANDARD
BEGIN:DAYLIGHT
TZOFFSETFROM:-0600
TZOFFSETTO:-0500
TZNAME:CDT
DTSTART:20240310T080000
END:DAYLIGHT
BEGIN:STANDARD
TZOFFSETFROM:-0500
TZOFFSETTO:-0600
TZNAME:CST
DTSTART:20241103T070000
END:STANDARD
END:VTIMEZONE
BEGIN:VEVENT
DTSTART;TZID=America/Chicago:20230331T160000
DTEND;TZID=America/Chicago:20230331T180000
DTSTAMP:20260425T175636
CREATED:20230320T173903Z
LAST-MODIFIED:20230320T174617Z
UID:1368-1680278400-1680285600@sweethomespirits.com
SUMMARY:Tasting- Pelham ABC Store
DESCRIPTION:ABC Tasting of Sweet Home Spirits.
URL:https://sweethomespirits.com/event/tasting-pelham-abc-store/
LOCATION:ABC Store #125- Pelham\, 3511 C Pellham Parkway\, Pelham\, AL\, 35124\, United States
CATEGORIES:Tastings
ORGANIZER;CN="Austin Creel":MAILTO:austin@sweethomespirits.com
END:VEVENT
BEGIN:VEVENT
DTSTART;TZID=America/Chicago:20230325T150000
DTEND;TZID=America/Chicago:20230325T170000
DTSTAMP:20260425T175636
CREATED:20230320T174732Z
LAST-MODIFIED:20230320T174732Z
UID:1388-1679756400-1679763600@sweethomespirits.com
SUMMARY:Tasting- ABC Store- Mountain Brook
DESCRIPTION:Sweet Home Spirits Liquor Tasting.
URL:https://sweethomespirits.com/event/tasting-abc-store-mountain-brook/
LOCATION:ABC Store #55- Mountain Brook\, 201 Rele Street\, Mountain Brook\, AL\, 35223\, United States
CATEGORIES:Tastings
END:VEVENT
BEGIN:VEVENT
DTSTART;TZID=America/Chicago:20230324T160000
DTEND;TZID=America/Chicago:20230324T180000
DTSTAMP:20260425T175636
CREATED:20230320T174337Z
LAST-MODIFIED:20230320T174420Z
UID:1380-1679673600-1679680800@sweethomespirits.com
SUMMARY:Tasting- ABC Store- Vestavia Hills
DESCRIPTION:Tasting of Sweet Home Spirits.
URL:https://sweethomespirits.com/event/tasting-abc-store-vestavia-hills/
LOCATION:ABC Store #98- Vestavia Hills\, 1425 Montgomery Highway\, Vestavia Hills\, AL\, 35216\, United States
CATEGORIES:Tastings
END:VEVENT
BEGIN:VEVENT
DTSTART;TZID=America/Chicago:20230324T160000
DTEND;TZID=America/Chicago:20230324T180000
DTSTAMP:20260425T175636
CREATED:20230320T174241Z
LAST-MODIFIED:20230320T174447Z
UID:1377-1679673600-1679680800@sweethomespirits.com
SUMMARY:Tasting- Hoover ABC Store- Galleria
DESCRIPTION:Tasting of Sweet Home Spirits.
URL:https://sweethomespirits.com/event/tasting-hoover-abc-store-galleria-2/
LOCATION:ABC Store #58 Galleria- Hoover\, 3232 Galleria Circle. Suite 110\, Hoover\, AL\, 35244\, United States
CATEGORIES:Tastings
END:VEVENT
BEGIN:VEVENT
DTSTART;TZID=America/Chicago:20221206T203000
DTEND;TZID=America/Chicago:20221206T233000
DTSTAMP:20260425T175636
CREATED:20221108T183829Z
LAST-MODIFIED:20221108T183857Z
UID:1292-1670358600-1670369400@sweethomespirits.com
SUMMARY:Sweet Home Whiskey Jam- Anderson Gore
DESCRIPTION:Join Sweet Home Spirits for our weekly Tuesday Jam concert series. \nSweet Home will be taking up residency at Tin Roof Bar in downtown Birmingham to provide talented local artists for our events. \nWhen: Every Tuesday. \nTime? \n8:30pm- Featured Artist- Anderson Gore \n9:15 pm- Open Mic Hosted by Sean Mac\n \n  \nDrink Specials: \nSweet Home Spirits Drinks- $5 \nSweet Home Lemoncello Drop Shots- $5
URL:https://sweethomespirits.com/event/sweet-home-whiskey-jam-anderson-gore/
LOCATION:Tin Roof Birmingham\, 2709 7th Ave S\, Birmingham\, 35233\, United States
CATEGORIES:Concerts
ATTACH;FMTTYPE=image/png:https://sweethomespirits.com/wp-content/uploads/2022/11/Tin-Roof_SHS-Jam_12.6.22-Anderson-Gores_1080x1080.png
ORGANIZER;CN="Austin Creel":MAILTO:austin@sweethomespirits.com
END:VEVENT
BEGIN:VEVENT
DTSTART;TZID=America/Chicago:20221129T203000
DTEND;TZID=America/Chicago:20221129T233000
DTSTAMP:20260425T175636
CREATED:20221108T183718Z
LAST-MODIFIED:20221108T183718Z
UID:1289-1669753800-1669764600@sweethomespirits.com
SUMMARY:Sweet Home Whiskey Jam- Tyler Nichols
DESCRIPTION:Join Sweet Home Spirits for our weekly Tuesday Jam concert series. \nSweet Home will be taking up residency at Tin Roof Bar in downtown Birmingham to provide talented local artists for our events. \nWhen: Every Tuesday. \nTime? \n8:30pm- Featured Artist- Tyler Nichols \n9:15 pm- Open Mic Hosted by Sean Mac\n \n  \nDrink Specials: \nSweet Home Spirits Drinks- $5 \nSweet Home Lemoncello Drop Shots- $5
URL:https://sweethomespirits.com/event/sweet-home-whiskey-jam-tyler-nichols/
LOCATION:Tin Roof Birmingham\, 2709 7th Ave S\, Birmingham\, 35233\, United States
CATEGORIES:Concerts
ATTACH;FMTTYPE=image/png:https://sweethomespirits.com/wp-content/uploads/2022/11/Tin-Roof_SHS-Jam_-11.29.22.-Tyler-Nichols_1080x1080.png
ORGANIZER;CN="Austin Creel":MAILTO:austin@sweethomespirits.com
END:VEVENT
BEGIN:VEVENT
DTSTART;TZID=America/Chicago:20221122T203000
DTEND;TZID=America/Chicago:20221122T235900
DTSTAMP:20260425T175636
CREATED:20221024T202145Z
LAST-MODIFIED:20221108T183457Z
UID:1210-1669149000-1669161540@sweethomespirits.com
SUMMARY:Sweet Home Whiskey Jam- The Singles
DESCRIPTION:Join Sweet Home Spirits for our weekly Tuesday Jam concert series. \nSweet Home will be taking up residency at Tin Roof Bar in downtown Birmingham to provide talented local artists for our events. \nWhen: Every Tuesday. \nTime? \n8:30pm- Featured Artist- The Singles \n9:15 pm- Open Mic Hosted by Sean Mac\n \n  \nDrink Specials: \nSweet Home Spirits Drinks- $5 \nSweet Home Lemoncello Drop Shots- $5
URL:https://sweethomespirits.com/event/sweet-home-whiskey-jam-the-singles/
LOCATION:Tin Roof Birmingham\, 2709 7th Ave S\, Birmingham\, 35233\, United States
CATEGORIES:Concerts
ATTACH;FMTTYPE=image/png:https://sweethomespirits.com/wp-content/uploads/2022/11/Tin-Roof_SHS-Jam_-11.22.22-The-singles_1080x1080.png
ORGANIZER;CN="Austin Creel":MAILTO:austin@sweethomespirits.com
END:VEVENT
BEGIN:VEVENT
DTSTART;TZID=America/Chicago:20221115T203000
DTEND;TZID=America/Chicago:20221115T235900
DTSTAMP:20260425T175636
CREATED:20221024T202007Z
LAST-MODIFIED:20221108T183530Z
UID:1208-1668544200-1668556740@sweethomespirits.com
SUMMARY:Sweet Home Whiskey Jam- Ham Bagby
DESCRIPTION:Join Sweet Home Spirits for our weekly Tuesday Jam concert series. \nSweet Home will be taking up residency at Tin Roof Bar in downtown Birmingham to provide talented local artists for our events. \nWhen: Every Tuesday. \nTime? \n8:30pm– Ham Bagby\n \n9:15pm- open Mic with Sean Mac \n  \n About: \nHam Bagby was born in 1978\, the youngest child of an Episcopal priest and a loving mother. He’s a pretty tall guy. It’s literally the first thing everyone and anyone says to him. Ham has been a janitor twice\, worked in food service\, stocked shelves\, and done maintenance. He started playing music at 13 because he wanted to play when he was six\, but that was when he got his first guitar. Ham Bagby lived in Tuscaloosa\, Alabama for almost twenty years where he crafted his show’s mix of humor\, southern flair\, and attempted virtuosity. His Influences include Jimi Hendrix\, Willie Nelson\, and Prince—obviously— Roger Miller\, Weird Al\, Thin Lizzy\, Waylon Jennings\, and Tuscaloosa’s own The Dexateens. \nAs a solo artist\, Ham fronts Ham Bagby and the Siege\, but has always been a willing gun slinger for other bands\, like Blaine Duncan and the Lookers\, The Ne’er-do-Well’s\, and Motel Ice Machine. More casually\, he has played on recordings by Cy Simonton and Knympho Knife. There are two Ham Bagby albums available to purchase now\, or stream if you’re under the age of 27\, called “Ham Bagby: Shits Crucial is Track 7” and “Ham Bagby: Tryin Not To Die”. In the future\, Ham Bagby plans to release more recordings and play more shows around the Southeast\, or as far as his Hyundai will take him. \n  \nDrink Specials: \nSweet Home Spirits Drinks- $5 \nSweet Home Lemoncello Drop Shots- $5
URL:https://sweethomespirits.com/event/sweet-home-whiskey-jam-ham-bagby/
LOCATION:Tin Roof Birmingham\, 2709 7th Ave S\, Birmingham\, 35233\, United States
CATEGORIES:Concerts
ATTACH;FMTTYPE=image/png:https://sweethomespirits.com/wp-content/uploads/2022/11/Tin-Roof_SHS-Jam_-11.15.22-Ham-Bagby_1080x1080.png
ORGANIZER;CN="Austin Creel":MAILTO:austin@sweethomespirits.com
END:VEVENT
BEGIN:VEVENT
DTSTART;TZID=America/Chicago:20221108T203000
DTEND;TZID=America/Chicago:20221108T235900
DTSTAMP:20260425T175636
CREATED:20221024T201732Z
LAST-MODIFIED:20221108T183430Z
UID:1206-1667939400-1667951940@sweethomespirits.com
SUMMARY:Sweet Home Whiskey Jam- Kyle Smith
DESCRIPTION:Join Sweet Home Spirits for our weekly Tuesday Jam concert series. \nSweet Home will be taking up residency at Tin Roof Bar in downtown Birmingham to provide talented local artists for our events. \nWhen: Every Tuesday. \nTime? \n8:30pm– Kyle Smith \n9:15pm- open Mic with Sean Mac\n \n  \nDrink Specials: \nSweet Home Spirits Drinks- $5 \nSweet Home Lemoncello Drop Shots- $5
URL:https://sweethomespirits.com/event/sweet-home-whiskey-jam-kyle-smith/
LOCATION:Tin Roof Birmingham\, 2709 7th Ave S\, Birmingham\, 35233\, United States
CATEGORIES:Concerts
ATTACH;FMTTYPE=image/png:https://sweethomespirits.com/wp-content/uploads/2022/11/Tin-Roof_SHS-Jam_-11.8.22-kyle-Smith_1080x1080.png
ORGANIZER;CN="Austin Creel":MAILTO:austin@sweethomespirits.com
END:VEVENT
BEGIN:VEVENT
DTSTART;TZID=America/Chicago:20221101T203000
DTEND;TZID=America/Chicago:20221101T235900
DTSTAMP:20260425T175636
CREATED:20221024T201344Z
LAST-MODIFIED:20221024T202240Z
UID:1200-1667334600-1667347140@sweethomespirits.com
SUMMARY:Sweet Home Whiskey Jam- Anna Hope
DESCRIPTION:Join Sweet Home Spirits for our weekly Tuesday Jam concert series. \nSweet Home will be taking up residency at Tin Roof Bar in downtown Birmingham to provide talented local artists for our events. \nWhen: Every Tuesday. \nTime? \n8:30pm- Open Mic \n10pm- Anna Hope \n About: Birmingham performer/songwriter. Americana/Folk originals \n  \nDrink Specials: \nSweet Home Spirits Drinks- $5 \nSweet Home Lemoncello Drop Shots- $5
URL:https://sweethomespirits.com/event/sweet-home-whiskey-jam-anna-hope/
LOCATION:Tin Roof Birmingham\, 2709 7th Ave S\, Birmingham\, 35233\, United States
CATEGORIES:Concerts
ORGANIZER;CN="Austin Creel":MAILTO:austin@sweethomespirits.com
END:VEVENT
BEGIN:VEVENT
DTSTART;TZID=America/Chicago:20221028T160000
DTEND;TZID=America/Chicago:20221028T180000
DTSTAMP:20260425T175636
CREATED:20221024T205513Z
LAST-MODIFIED:20221024T205525Z
UID:1241-1666972800-1666980000@sweethomespirits.com
SUMMARY:Windmill Beverage Tasting – Decatur- Hwy 67 Location
DESCRIPTION:Celebrating Windmill Beverage’s New Store with a product line tasting
URL:https://sweethomespirits.com/event/windmill-beverage-tasting-decatur-hwy-67-location/
LOCATION:Windmill Beverage- Decatur- Hwy 67 Location\, 2931 Point Mallard Pkwy.\, Decatur\, 35603\, United States
CATEGORIES:Tastings
ATTACH;FMTTYPE=image/jpeg:https://sweethomespirits.com/wp-content/uploads/2021/05/IMG_0174.jpg
ORGANIZER;CN="Austin Creel":MAILTO:austin@sweethomespirits.com
END:VEVENT
BEGIN:VEVENT
DTSTART;TZID=America/Chicago:20221027T180000
DTEND;TZID=America/Chicago:20221027T200000
DTSTAMP:20260425T175636
CREATED:20221024T204902Z
LAST-MODIFIED:20221024T204902Z
UID:1231-1666893600-1666900800@sweethomespirits.com
SUMMARY:The Open Bottle Tasting- Huntsville\, AL
DESCRIPTION:Full Product Line Tasting at Open Bottle!
URL:https://sweethomespirits.com/event/the-open-bottle-tasting-huntsville-al/
LOCATION:The Open Bottle\, 7061 Hwy 72 W\, Huntsville\, AL\, 35806\, United States
CATEGORIES:Tastings
ATTACH;FMTTYPE=image/jpeg:https://sweethomespirits.com/wp-content/uploads/2021/05/IMG_7472.jpg
ORGANIZER;CN="Austin Creel":MAILTO:austin@sweethomespirits.com
END:VEVENT
BEGIN:VEVENT
DTSTART;TZID=America/Chicago:20221027T160000
DTEND;TZID=America/Chicago:20221027T180000
DTSTAMP:20260425T175636
CREATED:20221024T204638Z
LAST-MODIFIED:20221024T204638Z
UID:1227-1666886400-1666893600@sweethomespirits.com
SUMMARY:Liquor Express Tasting
DESCRIPTION:Liquor Express Tasting! Full Product Line Available
URL:https://sweethomespirits.com/event/liquor-express-tasting/
LOCATION:Liquor Express Huntsville\, 1812 University Dr NW\, Huntsville\, AL\, 35801\, United States
CATEGORIES:Tastings
ATTACH;FMTTYPE=image/jpeg:https://sweethomespirits.com/wp-content/uploads/2021/04/IMG_1255-2.jpg
END:VEVENT
BEGIN:VEVENT
DTSTART;TZID=America/Chicago:20221026T160000
DTEND;TZID=America/Chicago:20221026T190000
DTSTAMP:20260425T175636
CREATED:20221024T204327Z
LAST-MODIFIED:20221024T205000Z
UID:1222-1666800000-1666810800@sweethomespirits.com
SUMMARY:Windmill Beverage Tasting - Hampton Cove Location
DESCRIPTION:The owner and crew will be at Windmill Beverage showcasing our two new products along with our full line! \n  \nHampton Cove Location
URL:https://sweethomespirits.com/event/windmill-beverage-tasting-full-product-line-available/
LOCATION:Windmill Beverage- Owens Cross Roads- Hampton Cove Location\, 6310 US-431\, Owens Cross Roads\, AL\, 35763\, United States
CATEGORIES:Tastings
ATTACH;FMTTYPE=image/jpeg:https://sweethomespirits.com/wp-content/uploads/2021/04/IMG_1916.jpg
END:VEVENT
BEGIN:VEVENT
DTSTART;TZID=America/Chicago:20221026T120000
DTEND;TZID=America/Chicago:20221026T153000
DTSTAMP:20260425T175636
CREATED:20221024T203836Z
LAST-MODIFIED:20221024T203954Z
UID:1218-1666785600-1666798200@sweethomespirits.com
SUMMARY:Sweet Home Tasting at the Arsenal!
DESCRIPTION:Sweet home Spirits is bringing our products for you to sample\, make recommendations on pairings and help you fall in love with our product! \nCome spend some time with us and enjoy sampling liquors. \nThis is a free tasting provided by Sweet Home Spirits.
URL:https://sweethomespirits.com/event/sweet-home-tasting-at-the-arsenal/
LOCATION:Redstone Arsenal Main Exchange\, Bldg. 3220 Acton Drive\, Huntsville\, AL\, 35898\, United States
CATEGORIES:Tastings
ATTACH;FMTTYPE=image/jpeg:https://sweethomespirits.com/wp-content/uploads/2021/04/IMG_1726-2.jpg
ORGANIZER;CN="Austin Creel":MAILTO:austin@sweethomespirits.com
END:VEVENT
BEGIN:VEVENT
DTSTART;TZID=America/Chicago:20221025T203000
DTEND;TZID=America/Chicago:20221025T235900
DTSTAMP:20260425T175636
CREATED:20221024T194155Z
LAST-MODIFIED:20221024T202339Z
UID:1185-1666729800-1666742340@sweethomespirits.com
SUMMARY:Sweet Home Whiskey Jam- Ryan O'Connor ft. The David Clyburn
DESCRIPTION:Join Sweet Home Spirits for our weekly Tuesday Jam concert series. \nSweet Home will be taking up residency at Tin Roof Bar in downtown Birmingham to provide talented local artists for our events. \nWhen: Every Tuesday. \nTime? \n8:30pm- Open Mic \n10pm- Ryan O’Connor featuring The David Clyburn \n  \nDrink Specials: \nSweet Home Spirits Drinks- $5 \nSweet Home Lemoncello Drop Shots- $5
URL:https://sweethomespirits.com/event/sweet-home-whiskey-jam-ryan-oconnor-ft-the-david-clyburn/
LOCATION:Tin Roof Birmingham\, 2709 7th Ave S\, Birmingham\, 35233\, United States
CATEGORIES:Concerts
ORGANIZER;CN="Austin Creel":MAILTO:austin@sweethomespirits.com
END:VEVENT
END:VCALENDAR