BEGIN:VCALENDAR
VERSION:2.0
PRODID:-//Sweet Home Spirits - ECPv6.15.12.2//NONSGML v1.0//EN
CALSCALE:GREGORIAN
METHOD:PUBLISH
X-ORIGINAL-URL:https://sweethomespirits.com
X-WR-CALDESC:Events for Sweet Home Spirits
REFRESH-INTERVAL;VALUE=DURATION:PT1H
X-Robots-Tag:noindex
X-PUBLISHED-TTL:PT1H
BEGIN:VTIMEZONE
TZID:America/Chicago
BEGIN:DAYLIGHT
TZOFFSETFROM:-0600
TZOFFSETTO:-0500
TZNAME:CDT
DTSTART:20250309T080000
END:DAYLIGHT
BEGIN:STANDARD
TZOFFSETFROM:-0500
TZOFFSETTO:-0600
TZNAME:CST
DTSTART:20251102T070000
END:STANDARD
BEGIN:DAYLIGHT
TZOFFSETFROM:-0600
TZOFFSETTO:-0500
TZNAME:CDT
DTSTART:20260308T080000
END:DAYLIGHT
BEGIN:STANDARD
TZOFFSETFROM:-0500
TZOFFSETTO:-0600
TZNAME:CST
DTSTART:20261101T070000
END:STANDARD
BEGIN:DAYLIGHT
TZOFFSETFROM:-0600
TZOFFSETTO:-0500
TZNAME:CDT
DTSTART:20270314T080000
END:DAYLIGHT
BEGIN:STANDARD
TZOFFSETFROM:-0500
TZOFFSETTO:-0600
TZNAME:CST
DTSTART:20271107T070000
END:STANDARD
END:VTIMEZONE
BEGIN:VEVENT
DTSTART;TZID=America/Chicago:20260320T130000
DTEND;TZID=America/Chicago:20260322T190000
DTSTAMP:20260425T132909
CREATED:20260307T231107Z
LAST-MODIFIED:20260307T231107Z
UID:3568-1774011600-1774206000@sweethomespirits.com
SUMMARY:Sweet Home United Barrel Select - Members Only!
DESCRIPTION:As part of our member-exclusive events for the Sweet Home Spirits Distillery\, we will be inviting members all weekend to come in and sample each barrel of the Red\, White\, and Blue Corned whiskey so that we can find 3 barrels that will be worthy to blend for our Inaugural batch! \nMemberships are still available for the 2026 year!  Price is $150 for the entire year\, which includes a custom decanter bottle! \n 
URL:https://sweethomespirits.com/event/sweet-home-united-barrel-select-members-only/
LOCATION:Sweet Home Spirits Distillery\, 8316 Parkway Drive\, Leeds\, AL\, 35094\, United States
ATTACH;FMTTYPE=image/png:https://sweethomespirits.com/wp-content/uploads/2026/03/United-Release-Flier.png
ORGANIZER;CN="Austin Creel":MAILTO:austin@sweethomespirits.com
END:VEVENT
BEGIN:VEVENT
DTSTART;TZID=America/Chicago:20260424T170000
DTEND;TZID=America/Chicago:20260424T193000
DTSTAMP:20260425T132909
CREATED:20260409T221949Z
LAST-MODIFIED:20260409T222231Z
UID:3583-1777050000-1777059000@sweethomespirits.com
SUMMARY:Motors on Main - Downtown Leeds Cruise-In
DESCRIPTION:Sweet Home Spirits and a slew of small businesses are coming together to support non-profits and bring awareness to downtown Leeds! \nAll Wheels are Welcomed!  Sweet Home will have a pop up tent serving the finest spirits in Alabama!  Cocktail menu will be available! \n4th Friday’s from 5-8PM starting April 24 and lasting through October \nFacebook Page is below: \nFacebook
URL:https://sweethomespirits.com/event/motors-on-main-downtown-leeds-cruise-in-2-2-2-2/
LOCATION:Downtown Leeds\, 8104 Parkway Dr\, Leeds\, AL\, 35094\, United States
CATEGORIES:Pop Ups
ATTACH;FMTTYPE=image/jpeg:https://sweethomespirits.com/wp-content/uploads/2026/04/motors-on-main-update.jpg
ORGANIZER;CN="Austin Creel":MAILTO:austin@sweethomespirits.com
END:VEVENT
BEGIN:VEVENT
DTSTART;TZID=America/Chicago:20260425T110000
DTEND;TZID=America/Chicago:20260425T200000
DTSTAMP:20260425T132909
CREATED:20260307T231441Z
LAST-MODIFIED:20260307T231441Z
UID:3571-1777114800-1777147200@sweethomespirits.com
SUMMARY:Earthday Fest - Battle of the Bands!
DESCRIPTION:For the 3rd year straight\, Sweet Home Spirits will be hosting Earthday Fest at the distillery! \nLocal bands will be battling to see who will win 2 full band recording days at Eric Watters Studio! \nSweet Home will also host a morning clean-up around the city of Leeds and will have vendors all day for food\, beer\, crafts\, and more! \nPrelims for the bands will be 11 – 3PM and finals will be 5PM – 7PM!
URL:https://sweethomespirits.com/event/earthday-fest-battle-of-the-bands/
LOCATION:AL
ATTACH;FMTTYPE=image/png:https://sweethomespirits.com/wp-content/uploads/2026/03/Earth-Fest-Battle-of-the-Bands-1.png
END:VEVENT
BEGIN:VEVENT
DTSTART;TZID=America/Chicago:20260505T120000
DTEND;TZID=America/Chicago:20260509T190000
DTSTAMP:20260425T132909
CREATED:20260409T221522Z
LAST-MODIFIED:20260409T221522Z
UID:3576-1777982400-1778353200@sweethomespirits.com
SUMMARY:Sweet Home Spirits Turns 5!  Week Long Celebration
DESCRIPTION:Turning 5 is a big deal in the whiskey world\, and Sweet Home Spirits want to celebrate with everyone! \nCome By Tuesday – Saturday from 12PM – 7PM for member barrel picks\, special releases\, and more! \nWe will leave a little early Thursday to show off our wares and eat crawfish at Coastal Conservation’s annual crawfish boil! \n  \n 
URL:https://sweethomespirits.com/event/sweet-home-spirits-turns-5-week-long-celebration/
LOCATION:Sweet Home Spirits Distillery\, 8316 Parkway Drive\, Leeds\, AL\, 35094\, United States
ATTACH;FMTTYPE=image/png:https://sweethomespirits.com/wp-content/uploads/2026/04/Sweet-Home-Turns-5-1.png
ORGANIZER;CN="Austin Creel":MAILTO:austin@sweethomespirits.com
END:VEVENT
BEGIN:VEVENT
DTSTART;TZID=America/Chicago:20260522T120000
DTEND;TZID=America/Chicago:20260525T190000
DTSTAMP:20260425T132909
CREATED:20260409T222833Z
LAST-MODIFIED:20260409T222833Z
UID:3595-1779451200-1779735600@sweethomespirits.com
SUMMARY:Memorial Day Weekend Hours
DESCRIPTION:We will be open all Memorial Day Weekend to honor those who served our country and for those who gave the ultimate sacrifice for our country and values. \n 
URL:https://sweethomespirits.com/event/memorial-day-weekend-hours/
LOCATION:Sweet Home Spirits Distillery\, 8316 Parkway Drive\, Leeds\, AL\, 35094\, United States
ATTACH;FMTTYPE=image/png:https://sweethomespirits.com/wp-content/uploads/2026/04/Honoring-those-we-lost-with-a-pour-1.png
ORGANIZER;CN="Austin Creel":MAILTO:austin@sweethomespirits.com
END:VEVENT
BEGIN:VEVENT
DTSTART;TZID=America/Chicago:20260522T170000
DTEND;TZID=America/Chicago:20260522T193000
DTSTAMP:20260425T132909
CREATED:20260409T221915Z
LAST-MODIFIED:20260409T222334Z
UID:3581-1779469200-1779478200@sweethomespirits.com
SUMMARY:Motors on Main - Downtown Leeds Cruise-In
DESCRIPTION:Sweet Home Spirits and a slew of small businesses are coming together to support non-profits and bring awareness to downtown Leeds! \nAll Wheels are Welcomed!  Sweet Home will have a pop up tent serving the finest spirits in Alabama!  Cocktail menu will be available! \nFacebook Page is below: \nFacebook
URL:https://sweethomespirits.com/event/motors-on-main-downtown-leeds-cruise-in-2-2-3/
LOCATION:Downtown Leeds\, 8104 Parkway Dr\, Leeds\, AL\, 35094\, United States
CATEGORIES:Pop Ups
ATTACH;FMTTYPE=image/jpeg:https://sweethomespirits.com/wp-content/uploads/2026/04/motors-on-main-update.jpg
ORGANIZER;CN="Austin Creel":MAILTO:austin@sweethomespirits.com
END:VEVENT
BEGIN:VEVENT
DTSTART;TZID=America/Chicago:20260627T170000
DTEND;TZID=America/Chicago:20260627T193000
DTSTAMP:20260425T132909
CREATED:20260409T222344Z
LAST-MODIFIED:20260409T222404Z
UID:3591-1782579600-1782588600@sweethomespirits.com
SUMMARY:Motors on Main - Downtown Leeds Cruise-In
DESCRIPTION:Sweet Home Spirits and a slew of small businesses are coming together to support non-profits and bring awareness to downtown Leeds! \nAll Wheels are Welcomed!  Sweet Home will have a pop up tent serving the finest spirits in Alabama!  Cocktail menu will be available! \n4th Friday’s from 5-8PM starting April 24 and lasting through October \nFacebook Page is below: \nFacebook
URL:https://sweethomespirits.com/event/motors-on-main-downtown-leeds-cruise-in-2-2-2-2-2/
LOCATION:Downtown Leeds\, 8104 Parkway Dr\, Leeds\, AL\, 35094\, United States
CATEGORIES:Pop Ups
ATTACH;FMTTYPE=image/jpeg:https://sweethomespirits.com/wp-content/uploads/2026/04/motors-on-main-update.jpg
ORGANIZER;CN="Austin Creel":MAILTO:austin@sweethomespirits.com
END:VEVENT
END:VCALENDAR